BEGIN:VCALENDAR
VERSION:2.0
PRODID:-//Sabre//Sabre VObject 4.5.8//EN
CALSCALE:GREGORIAN
BEGIN:VEVENT
UID:sabre-vobject-d1321614-0e2b-4433-9493-40f0ba890eb8
DTSTAMP:20260423T043945Z
SUMMARY:Reihe: Mittagsvisite
DESCRIPTION:https://regioningolstadt.com/reihe-mittagsvisite_id36126
DTSTART;TZID=Europe/Berlin:20241217T123000
DTEND;TZID=Europe/Berlin:20241217T130000
LOCATION:Deutsches Medizinhistorisches Museum\, Anatomiestraße 18 – 20\,
  85049 Ingolstadt
END:VEVENT
END:VCALENDAR
