BEGIN:VCALENDAR
VERSION:2.0
PRODID:-//Sabre//Sabre VObject 4.5.8//EN
CALSCALE:GREGORIAN
BEGIN:VEVENT
UID:sabre-vobject-a56e7101-5c6c-4d96-869c-e7c5e51f8d57
DTSTAMP:20260422T130453Z
SUMMARY:Räucher-Workshop unter den Arkaden
DESCRIPTION:https://regioningolstadt.com/raeucher-workshop-unter-den-arkade
 n_id36125
DTSTART;TZID=Europe/Berlin:20241214T103000
DTEND;TZID=Europe/Berlin:20241214T123000
LOCATION:Deutsches Medizinhistorisches Museum\, Anatomiestraße 18 – 20\,
  85049 Ingolstadt
END:VEVENT
END:VCALENDAR
