BEGIN:VCALENDAR
VERSION:2.0
PRODID:-//Sabre//Sabre VObject 4.5.8//EN
CALSCALE:GREGORIAN
BEGIN:VEVENT
UID:sabre-vobject-da8ba383-036d-4144-bd0a-0910708468a1
DTSTAMP:20260424T043736Z
SUMMARY:THI-Campusführung Walk & Talk
DESCRIPTION:https://regioningolstadt.com/thi-campusfuehrung-walk-talk_id361
 04
DTSTART;TZID=Europe/Berlin:20250108T153000
DTEND;TZID=Europe/Berlin:20250108T163000
LOCATION:Technische Hochschule Ingolstadt Campusgelände\, Esplanade 10\, 8
 5049 Ingolstadt
END:VEVENT
END:VCALENDAR
