BEGIN:VCALENDAR
VERSION:2.0
PRODID:-//Sabre//Sabre VObject 4.5.8//EN
CALSCALE:GREGORIAN
BEGIN:VEVENT
UID:sabre-vobject-f732c3e9-3d4a-45b3-98cc-a5ef7e2ad4d2
DTSTAMP:20260424T152128Z
SUMMARY:Öffentliche Kombi-Führung Lechner Museum und Skulpturenpark Obere
 ichstätt
DESCRIPTION:https://regioningolstadt.com/oeffentliche-kombi-fuehrung-lechne
 r-museum-und-skulpturenpark-obereichstaett_id36103
DTSTART;TZID=Europe/Berlin:20241229T110000
DTEND;TZID=Europe/Berlin:20241229T143000
LOCATION:Lechner Museum\, Esplanade 9\, 85049 Ingolstadt
END:VEVENT
END:VCALENDAR
