BEGIN:VCALENDAR
VERSION:2.0
PRODID:-//Sabre//Sabre VObject 4.5.8//EN
CALSCALE:GREGORIAN
BEGIN:VEVENT
UID:sabre-vobject-8897d995-115a-4e94-bdb9-4a90c6bf8983
DTSTAMP:20260422T174327Z
SUMMARY:YOC Jahresrückblick
DESCRIPTION:https://regioningolstadt.com/yoc-jahresrueckblick_id36102
DTSTART;TZID=Europe/Berlin:20241214T200000
DURATION:PT30M
LOCATION:Neue Welt\, Griesbadgasse 7\, 85049 Ingolstadt
END:VEVENT
END:VCALENDAR
