BEGIN:VCALENDAR
VERSION:2.0
PRODID:-//Sabre//Sabre VObject 4.5.8//EN
CALSCALE:GREGORIAN
BEGIN:VEVENT
UID:sabre-vobject-8791615b-d416-4cc9-b297-dce8ae564d33
DTSTAMP:20260422T090646Z
SUMMARY:Schneekönigin - das Musical
DESCRIPTION:https://regioningolstadt.com/schneekoenigin-das-musical_id36054
DTSTART;TZID=Europe/Berlin:20250323T150000
DTEND;TZID=Europe/Berlin:20250323T170000
LOCATION:Festsaal des Stadttheaters Ingolstadt\, Schloßlände 1\, 85049 In
 golstadt
END:VEVENT
END:VCALENDAR
