BEGIN:VCALENDAR
VERSION:2.0
PRODID:-//Sabre//Sabre VObject 4.5.8//EN
CALSCALE:GREGORIAN
BEGIN:VEVENT
UID:sabre-vobject-f636079b-dc19-4c2c-87fd-3dcebde46116
DTSTAMP:20260419T230109Z
SUMMARY:Abenteuer helfen
DESCRIPTION:https://regioningolstadt.com/abenteuer-helfen_id36050
DTSTART;TZID=Europe/Berlin:20250404T153000
DTEND;TZID=Europe/Berlin:20250404T170000
LOCATION:Bürgerhaus Neuburger Kasten\, Fechtgasse 6\, 85049 Ingolstadt
END:VEVENT
END:VCALENDAR
