BEGIN:VCALENDAR
VERSION:2.0
PRODID:-//Sabre//Sabre VObject 4.5.8//EN
CALSCALE:GREGORIAN
BEGIN:VEVENT
UID:sabre-vobject-05339a2e-088d-4b82-85d2-037d9533d32d
DTSTAMP:20260422T162007Z
SUMMARY:Heilige Nacht
DESCRIPTION:https://regioningolstadt.com/heilige-nacht_id36048
DTSTART;TZID=Europe/Berlin:20241214T190000
DTEND;TZID=Europe/Berlin:20241214T210000
LOCATION:Münster Hl. Kreuz Bergen\, Kirchplatz 3\, 86633 Bergen
END:VEVENT
END:VCALENDAR
