BEGIN:VCALENDAR
VERSION:2.0
PRODID:-//Sabre//Sabre VObject 4.5.8//EN
CALSCALE:GREGORIAN
BEGIN:VEVENT
UID:sabre-vobject-99ad22f3-f5b7-4cfe-adaf-52b42bc7268a
DTSTAMP:20260424T122003Z
SUMMARY:Familienmittwoch
DESCRIPTION:https://regioningolstadt.com/familienmittwoch_id36036
DTSTART;TZID=Europe/Berlin:20260812T100000
DURATION:PT30M
END:VEVENT
END:VCALENDAR
