BEGIN:VCALENDAR
VERSION:2.0
PRODID:-//Sabre//Sabre VObject 4.5.8//EN
CALSCALE:GREGORIAN
BEGIN:VEVENT
UID:sabre-vobject-085c0712-c70d-4cbd-bbd3-3fea83e72bf0
DTSTAMP:20260420T113208Z
SUMMARY:Nachtwächterführung für Kinder
DESCRIPTION:https://regioningolstadt.com/nachtwaechterfuehrung-fuer-kinder_
 id36034
DTSTART;TZID=Europe/Berlin:20260829T183000
DTEND;TZID=Europe/Berlin:20260829T200000
LOCATION:Tourist-Information\, Ottheinrichplatz A 118\, 86633 Neuburg
END:VEVENT
END:VCALENDAR
