BEGIN:VCALENDAR
VERSION:2.0
PRODID:-//Sabre//Sabre VObject 4.5.8//EN
CALSCALE:GREGORIAN
BEGIN:VEVENT
UID:sabre-vobject-f117f2c3-4a3c-49ba-b872-f683b3c33654
DTSTAMP:20260422T141350Z
SUMMARY:Nachtwächterführung für Kinder
DESCRIPTION:https://regioningolstadt.com/nachtwaechterfuehrung-fuer-kinder_
 id36033
DTSTART;TZID=Europe/Berlin:20260801T183000
DTEND;TZID=Europe/Berlin:20260801T200000
LOCATION:Tourist-Information\, Ottheinrichplatz A 118\, 86633 Neuburg
END:VEVENT
END:VCALENDAR
