BEGIN:VCALENDAR
VERSION:2.0
PRODID:-//Sabre//Sabre VObject 4.5.8//EN
CALSCALE:GREGORIAN
BEGIN:VEVENT
UID:sabre-vobject-73854bd2-af40-4969-b420-eceb391330d0
DTSTAMP:20260422T000132Z
SUMMARY:Unterwegs mit Donaufischer Lenz
DESCRIPTION:https://regioningolstadt.com/unterwegs-mit-donaufischer-lenz_id
 36032
DTSTART;TZID=Europe/Berlin:20260626T190000
DTEND;TZID=Europe/Berlin:20260626T203000
LOCATION:Tourist-Information\, Ottheinrichplatz A 118\, 86633 Neuburg
END:VEVENT
END:VCALENDAR
