BEGIN:VCALENDAR
VERSION:2.0
PRODID:-//Sabre//Sabre VObject 4.5.8//EN
CALSCALE:GREGORIAN
BEGIN:VEVENT
UID:sabre-vobject-9fd5c349-908e-479a-a8bf-011a4a0e7149
DTSTAMP:20260420T234103Z
SUMMARY:Der Nikolaus im WestPark
DESCRIPTION:https://regioningolstadt.com/der-nikolaus-im-westpark_id35947
DTSTART;TZID=Europe/Berlin:18991206T140000
DTEND;TZID=Europe/Berlin:20241206T200000
LOCATION:WestPark Shoppingcenter\, Am Westpark 6\, 85057 Ingolstadt
END:VEVENT
END:VCALENDAR
