BEGIN:VCALENDAR
VERSION:2.0
PRODID:-//Sabre//Sabre VObject 4.5.8//EN
CALSCALE:GREGORIAN
BEGIN:VEVENT
UID:sabre-vobject-75371e67-e124-4174-afbd-5044c34e8e7e
DTSTAMP:20260422T083420Z
SUMMARY:Nachtwächterführung
DESCRIPTION:https://regioningolstadt.com/nachtwaechterfuehrung_id35922
DTSTART;TZID=Europe/Berlin:20260717T203000
DTEND;TZID=Europe/Berlin:20260717T220000
LOCATION:Tourist-Information\, Ottheinrichplatz A 118\, 86633 Neuburg
END:VEVENT
END:VCALENDAR
