BEGIN:VCALENDAR
VERSION:2.0
PRODID:-//Sabre//Sabre VObject 4.5.8//EN
CALSCALE:GREGORIAN
BEGIN:VEVENT
UID:sabre-vobject-eb052a71-f445-47bd-91d3-3d8f7c2db2c9
DTSTAMP:20260422T070331Z
SUMMARY:Nachtwächterführung
DESCRIPTION:https://regioningolstadt.com/nachtwaechterfuehrung_id35921
DTSTART;TZID=Europe/Berlin:20260703T203000
DTEND;TZID=Europe/Berlin:20260703T220000
LOCATION:Tourist-Information\, Ottheinrichplatz A 118\, 86633 Neuburg
END:VEVENT
END:VCALENDAR
