BEGIN:VCALENDAR
VERSION:2.0
PRODID:-//Sabre//Sabre VObject 4.5.8//EN
CALSCALE:GREGORIAN
BEGIN:VEVENT
UID:sabre-vobject-1556be8b-a101-4b6c-9127-9dcfd7afc0d2
DTSTAMP:20260421T235712Z
SUMMARY:Nachtwächterführung
DESCRIPTION:https://regioningolstadt.com/nachtwaechterfuehrung_id35920
DTSTART;TZID=Europe/Berlin:20260619T203000
DTEND;TZID=Europe/Berlin:20260619T220000
LOCATION:Tourist-Information\, Ottheinrichplatz A 118\, 86633 Neuburg
END:VEVENT
END:VCALENDAR
