BEGIN:VCALENDAR
VERSION:2.0
PRODID:-//Sabre//Sabre VObject 4.5.8//EN
CALSCALE:GREGORIAN
BEGIN:VEVENT
UID:sabre-vobject-a1d90a18-76c6-4a9b-a67d-98353d6538c5
DTSTAMP:20260421T192655Z
SUMMARY:Nachtwächterführung
DESCRIPTION:https://regioningolstadt.com/nachtwaechterfuehrung_id35919
DTSTART;TZID=Europe/Berlin:20260605T203000
DTEND;TZID=Europe/Berlin:20260605T220000
LOCATION:Tourist-Information\, Ottheinrichplatz A 118\, 86633 Neuburg
END:VEVENT
END:VCALENDAR
