BEGIN:VCALENDAR
VERSION:2.0
PRODID:-//Sabre//Sabre VObject 4.5.8//EN
CALSCALE:GREGORIAN
BEGIN:VEVENT
UID:sabre-vobject-f217ea28-c53a-425f-8fbb-b71ba6b62679
DTSTAMP:20260421T114914Z
SUMMARY:Nachtwächterführung
DESCRIPTION:https://regioningolstadt.com/nachtwaechterfuehrung_id35918
DTSTART;TZID=Europe/Berlin:20260515T203000
DTEND;TZID=Europe/Berlin:20260515T220000
LOCATION:Tourist-Information\, Ottheinrichplatz A 118\, 86633 Neuburg
END:VEVENT
END:VCALENDAR
