BEGIN:VCALENDAR
VERSION:2.0
PRODID:-//Sabre//Sabre VObject 4.5.8//EN
CALSCALE:GREGORIAN
BEGIN:VEVENT
UID:sabre-vobject-c3042cb5-b920-4ba8-b17a-7b3ffe2e7549
DTSTAMP:20260420T113238Z
SUMMARY:Von Hexen\, Heilern & Halunken
DESCRIPTION:https://regioningolstadt.com/von-hexen-heilern-halunken_id35915
DTSTART;TZID=Europe/Berlin:20260814T190000
DTEND;TZID=Europe/Berlin:20260814T203000
LOCATION:Tourist-Information\, Ottheinrichplatz A 118\, 86633 Neuburg
END:VEVENT
END:VCALENDAR
