BEGIN:VCALENDAR
VERSION:2.0
PRODID:-//Sabre//Sabre VObject 4.5.8//EN
CALSCALE:GREGORIAN
BEGIN:VEVENT
UID:sabre-vobject-09180fad-60a3-4f2a-8eeb-ba3bd5d2d9cc
DTSTAMP:20260422T082646Z
SUMMARY:Von Hexen\, Heilern & Halunken
DESCRIPTION:https://regioningolstadt.com/von-hexen-heilern-halunken_id35914
DTSTART;TZID=Europe/Berlin:20260710T190000
DTEND;TZID=Europe/Berlin:20260710T203000
LOCATION:Tourist-Information\, Ottheinrichplatz A 118\, 86633 Neuburg
END:VEVENT
END:VCALENDAR
