BEGIN:VCALENDAR
VERSION:2.0
PRODID:-//Sabre//Sabre VObject 4.5.8//EN
CALSCALE:GREGORIAN
BEGIN:VEVENT
UID:sabre-vobject-1e3d4091-e372-4412-a4f9-221f847c1396
DTSTAMP:20260422T133835Z
SUMMARY:Woche der Wärmepumpe: Wärmepumpen-Sanierungstreff Ingolstadt
DESCRIPTION:https://regioningolstadt.com/woche-der-waermepumpe-waermepumpen
 -sanierungstreff-ingolstadt_id35599
DTSTART;TZID=Europe/Berlin:20241104T170000
DTEND;TZID=Europe/Berlin:20241104T190000
LOCATION:Altstadttheater\, Kanalstraße 1a\, 85049 Ingolstadt
END:VEVENT
END:VCALENDAR
