BEGIN:VCALENDAR
VERSION:2.0
PRODID:-//Sabre//Sabre VObject 4.5.8//EN
CALSCALE:GREGORIAN
BEGIN:VEVENT
UID:sabre-vobject-8273bcf2-5b6d-4edf-b693-a4e8bebbdfb9
DTSTAMP:20260423T011017Z
SUMMARY:Lunch Learning - Was wäre wenn?
DESCRIPTION:https://regioningolstadt.com/lunch-learning-was-waere-wenn_id35
 570
DTSTART;TZID=Europe/Berlin:20250113T120000
DTEND;TZID=Europe/Berlin:20250113T123000
LOCATION:Online-Veranstaltung\, \,  
END:VEVENT
END:VCALENDAR
