BEGIN:VCALENDAR
VERSION:2.0
PRODID:-//Sabre//Sabre VObject 4.5.8//EN
CALSCALE:GREGORIAN
BEGIN:VEVENT
UID:sabre-vobject-d4367084-540e-43ca-92ac-f40a65550341
DTSTAMP:20260419T124053Z
SUMMARY:Stammtisch für pflegende Angehörige
DESCRIPTION:https://regioningolstadt.com/stammtisch-fuer-pflegende-angehoer
 ige_id35553
DTSTART;TZID=Europe/Berlin:20260421T150000
DURATION:PT30M
LOCATION:Göbel - Bäckerei & Kaffeehaus\, Schrannenplatz C 54\, 86633 Neub
 urg an der Donau
END:VEVENT
END:VCALENDAR
