BEGIN:VCALENDAR
VERSION:2.0
PRODID:-//Sabre//Sabre VObject 4.5.8//EN
CALSCALE:GREGORIAN
BEGIN:VEVENT
UID:sabre-vobject-7cf6f5b9-8e4f-4ee2-9033-35b43d72af2e
DTSTAMP:20260425T011051Z
SUMMARY:Traumfabrik - Showtheater der Phantasie
DESCRIPTION:https://regioningolstadt.com/traumfabrik-showtheater-der-phanta
 sie_id35548
DTSTART;TZID=Europe/Berlin:20250103T140000
DURATION:PT30M
LOCATION:Festsaal des Stadttheaters Ingolstadt\, Schloßlände 1\, 85049 In
 golstadt
END:VEVENT
END:VCALENDAR
