BEGIN:VCALENDAR
VERSION:2.0
PRODID:-//Sabre//Sabre VObject 4.5.8//EN
CALSCALE:GREGORIAN
BEGIN:VEVENT
UID:sabre-vobject-bc153eff-9be3-4a13-812b-d31cd3cee4fa
DTSTAMP:20260424T220229Z
SUMMARY:Traumfabrik - Showtheater der Phantasie
DESCRIPTION:https://regioningolstadt.com/traumfabrik-showtheater-der-phanta
 sie_id35546
DTSTART;TZID=Europe/Berlin:20250102T160000
DURATION:PT30M
LOCATION:Festsaal des Stadttheaters Ingolstadt\, Schloßlände 1\, 85049 In
 golstadt
END:VEVENT
END:VCALENDAR
