BEGIN:VCALENDAR
VERSION:2.0
PRODID:-//Sabre//Sabre VObject 4.5.8//EN
CALSCALE:GREGORIAN
BEGIN:VEVENT
UID:sabre-vobject-adf94f80-b60b-4dab-b56b-76c17582df76
DTSTAMP:20260422T061646Z
SUMMARY:Die Mathematik des Klimas  Abendvortrag mit Gespräch
DESCRIPTION:https://regioningolstadt.com/die-mathematik-des-klimas-abendvor
 trag-mit-gespraech_id35543
DTSTART;TZID=Europe/Berlin:20241105T183000
DTEND;TZID=Europe/Berlin:20241105T200000
LOCATION:Collegium Georgianum\, Hohe-Schul-Straße 3\, 85049 Ingolstadt
END:VEVENT
END:VCALENDAR
