BEGIN:VCALENDAR
VERSION:2.0
PRODID:-//Sabre//Sabre VObject 4.5.8//EN
CALSCALE:GREGORIAN
BEGIN:VEVENT
UID:sabre-vobject-1eba0312-20a3-4416-8329-5f7a709d231e
DTSTAMP:20260422T080019Z
SUMMARY:Der neue DIYnstag  „Put a Stamp on it!“ – Online-Workshop mit
  Studio Karamelo
DESCRIPTION:https://regioningolstadt.com/der-neue-diynstag-put-a-stamp-on-i
 t-online-workshop-mit-studio-karamelo_id35381
DTSTART;TZID=Europe/Berlin:20241105T180000
DTEND;TZID=Europe/Berlin:20241105T200000
LOCATION:Museum für Konkrete Kunst\, Tränktorstraße 6 - 8\, 85049 Ingols
 tadt
END:VEVENT
END:VCALENDAR
