BEGIN:VCALENDAR
VERSION:2.0
PRODID:-//Sabre//Sabre VObject 4.5.8//EN
CALSCALE:GREGORIAN
BEGIN:VEVENT
UID:sabre-vobject-9536217b-39bc-46f6-9d19-c664da7e79be
DTSTAMP:20260422T053945Z
SUMMARY:Offener Familientreff
DESCRIPTION:https://regioningolstadt.com/offener-familientreff_id35374
DTSTART;TZID=Europe/Berlin:20251212T143000
DTEND;TZID=Europe/Berlin:20251212T170000
LOCATION:Bürgerhaus Neuburger Kasten\, Fechtgasse 6\, 85049 Ingolstadt
END:VEVENT
END:VCALENDAR
