BEGIN:VCALENDAR
VERSION:2.0
PRODID:-//Sabre//Sabre VObject 4.5.8//EN
CALSCALE:GREGORIAN
BEGIN:VEVENT
UID:sabre-vobject-643703c2-336c-47ea-bd6b-3e84ff8d410f
DTSTAMP:20260422T221541Z
SUMMARY:Offener Familientreff
DESCRIPTION:https://regioningolstadt.com/offener-familientreff_id35373
DTSTART;TZID=Europe/Berlin:20251128T143000
DTEND;TZID=Europe/Berlin:20251128T170000
LOCATION:Bürgerhaus Neuburger Kasten\, Fechtgasse 6\, 85049 Ingolstadt
END:VEVENT
END:VCALENDAR
