BEGIN:VCALENDAR
VERSION:2.0
PRODID:-//Sabre//Sabre VObject 4.5.8//EN
CALSCALE:GREGORIAN
BEGIN:VEVENT
UID:sabre-vobject-a6c92bfd-dea7-4c5d-b44f-d7750ce64439
DTSTAMP:20260420T002959Z
SUMMARY:Offener Familientreff
DESCRIPTION:https://regioningolstadt.com/offener-familientreff_id35295
DTSTART;TZID=Europe/Berlin:20250404T143000
DTEND;TZID=Europe/Berlin:20250404T170000
LOCATION:Bürgerhaus Neuburger Kasten\, Fechtgasse 6\, 85049 Ingolstadt
END:VEVENT
END:VCALENDAR
