BEGIN:VCALENDAR
VERSION:2.0
PRODID:-//Sabre//Sabre VObject 4.5.8//EN
CALSCALE:GREGORIAN
BEGIN:VEVENT
UID:sabre-vobject-6ddb473b-16b3-4272-924c-81b7d7586c28
DTSTAMP:20260423T211123Z
SUMMARY:Offener Familientreff
DESCRIPTION:https://regioningolstadt.com/offener-familientreff_id35290
DTSTART;TZID=Europe/Berlin:20250110T143000
DTEND;TZID=Europe/Berlin:20250110T170000
LOCATION:Bürgerhaus Neuburger Kasten\, Fechtgasse 6\, 85049 Ingolstadt
END:VEVENT
END:VCALENDAR
