BEGIN:VCALENDAR
VERSION:2.0
PRODID:-//Sabre//Sabre VObject 4.5.8//EN
CALSCALE:GREGORIAN
BEGIN:VEVENT
UID:sabre-vobject-bdbdd5af-97ea-429a-9b5b-fd6af991b140
DTSTAMP:20260423T205943Z
SUMMARY:GKO: 9. Abonnementkonzert
DESCRIPTION:https://regioningolstadt.com/gko-9-abonnementkonzert_id35251
DTSTART;TZID=Europe/Berlin:20250515T200000
DURATION:PT30M
LOCATION:Festsaal des Stadttheaters Ingolstadt\, Schloßlände 1\, 85049 In
 golstadt
END:VEVENT
END:VCALENDAR
