BEGIN:VCALENDAR
VERSION:2.0
PRODID:-//Sabre//Sabre VObject 4.5.8//EN
CALSCALE:GREGORIAN
BEGIN:VEVENT
UID:sabre-vobject-f917f213-1744-4cad-8fa4-24e291c20148
DTSTAMP:20260421T193610Z
SUMMARY:GKO: 2. Familienkonzert
DESCRIPTION:https://regioningolstadt.com/gko-2-familienkonzert_id35246
DTSTART;TZID=Europe/Berlin:20250329T160000
DURATION:PT30M
LOCATION:Festsaal des Stadttheaters Ingolstadt\, Schloßlände 1\, 85049 In
 golstadt
END:VEVENT
END:VCALENDAR
