BEGIN:VCALENDAR
VERSION:2.0
PRODID:-//Sabre//Sabre VObject 4.5.8//EN
CALSCALE:GREGORIAN
BEGIN:VEVENT
UID:sabre-vobject-e67c127b-4ac0-4cad-8b08-0e45662bec01
DTSTAMP:20260420T000245Z
SUMMARY:GKO: 2. Piccolokonzert
DESCRIPTION:https://regioningolstadt.com/gko-2-piccolokonzert_id35245
DTSTART;TZID=Europe/Berlin:20250318T101500
DURATION:PT30M
LOCATION:Fronte 79 Jugendkulturzentrum\, Jahnstraße 25\, 85049 Ingolstadt
END:VEVENT
END:VCALENDAR
