BEGIN:VCALENDAR
VERSION:2.0
PRODID:-//Sabre//Sabre VObject 4.5.8//EN
CALSCALE:GREGORIAN
BEGIN:VEVENT
UID:sabre-vobject-eb2baf57-7791-493d-b84a-b0ea7e866188
DTSTAMP:20260420T013523Z
SUMMARY:GKO: 2. Piccolokonzert
DESCRIPTION:https://regioningolstadt.com/gko-2-piccolokonzert_id35244
DTSTART;TZID=Europe/Berlin:20250318T090000
DURATION:PT30M
LOCATION:Fronte 79 Jugendkulturzentrum\, Jahnstraße 25\, 85049 Ingolstadt
END:VEVENT
END:VCALENDAR
