BEGIN:VCALENDAR
VERSION:2.0
PRODID:-//Sabre//Sabre VObject 4.5.8//EN
CALSCALE:GREGORIAN
BEGIN:VEVENT
UID:sabre-vobject-fd2c33ef-8002-49c4-8c5a-05e598981537
DTSTAMP:20260421T073505Z
SUMMARY:GKO: 5. Abonnementkonzert
DESCRIPTION:https://regioningolstadt.com/gko-5-abonnementkonzert_id35241
DTSTART;TZID=Europe/Berlin:20250116T200000
DURATION:PT30M
LOCATION:Festsaal des Stadttheaters Ingolstadt\, Schloßlände 1\, 85049 In
 golstadt
END:VEVENT
END:VCALENDAR
