BEGIN:VCALENDAR
VERSION:2.0
PRODID:-//Sabre//Sabre VObject 4.5.8//EN
CALSCALE:GREGORIAN
BEGIN:VEVENT
UID:sabre-vobject-6172e6b9-4c00-4d87-8f05-9bc4205c15fd
DTSTAMP:20260424T072652Z
SUMMARY:GKO: 1. Babykonzert
DESCRIPTION:https://regioningolstadt.com/gko-1-babykonzert_id35240
DTSTART;TZID=Europe/Berlin:20241223T143000
DURATION:PT30M
LOCATION:Foyer des Stadttheater Ingolstadt\, Schloßlände 1\, 85049 Ingols
 tadt
END:VEVENT
END:VCALENDAR
