BEGIN:VCALENDAR
VERSION:2.0
PRODID:-//Sabre//Sabre VObject 4.5.8//EN
CALSCALE:GREGORIAN
BEGIN:VEVENT
UID:sabre-vobject-315385b9-ffc1-40cb-bf3d-1e825845c716
DTSTAMP:20260423T162237Z
SUMMARY:GKO: Weihnachtskinderkonzert
DESCRIPTION:https://regioningolstadt.com/gko-weihnachtskinderkonzert_id3523
 9
DTSTART;TZID=Europe/Berlin:20241219T104500
DURATION:PT30M
LOCATION:Fronte 79 Jugendkulturzentrum\, Jahnstraße 25\, 85049 Ingolstadt
END:VEVENT
END:VCALENDAR
