BEGIN:VCALENDAR
VERSION:2.0
PRODID:-//Sabre//Sabre VObject 4.5.8//EN
CALSCALE:GREGORIAN
BEGIN:VEVENT
UID:sabre-vobject-c9af90d5-9029-42ae-b5c6-f049c4a5798b
DTSTAMP:20260423T150020Z
SUMMARY:GKO: Weihnachtskinderkonzert
DESCRIPTION:https://regioningolstadt.com/gko-weihnachtskinderkonzert_id3523
 8
DTSTART;TZID=Europe/Berlin:20241219T091500
DURATION:PT30M
LOCATION:Fronte 79 Jugendkulturzentrum\, Jahnstraße 25\, 85049 Ingolstadt
END:VEVENT
END:VCALENDAR
