BEGIN:VCALENDAR
VERSION:2.0
PRODID:-//Sabre//Sabre VObject 4.5.8//EN
CALSCALE:GREGORIAN
BEGIN:VEVENT
UID:sabre-vobject-93d10cf9-927a-4c19-87c1-273916f71c4d
DTSTAMP:20260423T085853Z
SUMMARY:GKO: Weihnachtskinderkonzert
DESCRIPTION:https://regioningolstadt.com/gko-weihnachtskinderkonzert_id3523
 7
DTSTART;TZID=Europe/Berlin:20241218T104500
DURATION:PT30M
LOCATION:Fronte 79 Jugendkulturzentrum\, Jahnstraße 25\, 85049 Ingolstadt
END:VEVENT
END:VCALENDAR
