BEGIN:VCALENDAR
VERSION:2.0
PRODID:-//Sabre//Sabre VObject 4.5.8//EN
CALSCALE:GREGORIAN
BEGIN:VEVENT
UID:sabre-vobject-8bd28258-daf5-4b28-a84b-40f2ecafe6f3
DTSTAMP:20260423T072021Z
SUMMARY:GKO: Weihnachtskinderkonzert
DESCRIPTION:https://regioningolstadt.com/gko-weihnachtskinderkonzert_id3523
 6
DTSTART;TZID=Europe/Berlin:20241218T091500
DURATION:PT30M
LOCATION:Fronte 79 Jugendkulturzentrum\, Jahnstraße 25\, 85049 Ingolstadt
END:VEVENT
END:VCALENDAR
