BEGIN:VCALENDAR
VERSION:2.0
PRODID:-//Sabre//Sabre VObject 4.5.8//EN
CALSCALE:GREGORIAN
BEGIN:VEVENT
UID:sabre-vobject-fe75f9a2-f7c5-4b38-86e0-e1574391de90
DTSTAMP:20260422T174327Z
SUMMARY:Jubiläumskonzert IKO & GKO
DESCRIPTION:https://regioningolstadt.com/jubilaeumskonzert-iko-gko_id35220
DTSTART;TZID=Europe/Berlin:20241103T170000
DTEND;TZID=Europe/Berlin:20241103T200000
LOCATION:Festsaal des Stadttheaters Ingolstadt\, Schloßlände 1\, 85049 In
 golstadt
END:VEVENT
END:VCALENDAR
