BEGIN:VCALENDAR
VERSION:2.0
PRODID:-//Sabre//Sabre VObject 4.5.8//EN
CALSCALE:GREGORIAN
BEGIN:VEVENT
UID:sabre-vobject-2c06188b-f29d-4c92-a5d2-1f810925f465
DTSTAMP:20260420T095919Z
SUMMARY:Mr. Yasin - The HypnoxShow
DESCRIPTION:https://regioningolstadt.com/mr-yasin-the-hypnoxshow_id35164
DTSTART;TZID=Europe/Berlin:20250402T200000
DTEND;TZID=Europe/Berlin:20250402T220000
LOCATION:eventhalle Westpark\, Am Westpark 2\, 85057 Ingolstadt
END:VEVENT
END:VCALENDAR
