BEGIN:VCALENDAR
VERSION:2.0
PRODID:-//Sabre//Sabre VObject 4.5.8//EN
CALSCALE:GREGORIAN
BEGIN:VEVENT
UID:sabre-vobject-9db320ae-9d07-49c4-8441-80fe011be2a2
DTSTAMP:20260423T132008Z
SUMMARY:dialektig: Maxi Pongratz im Duo
DESCRIPTION:https://regioningolstadt.com/dialektig-maxi-pongratz-im-duo_id3
 5152
DTSTART;TZID=Europe/Berlin:20241218T200000
DURATION:PT30M
LOCATION:Neue Welt\, Griesbadgasse 7\, 85049 Ingolstadt
END:VEVENT
END:VCALENDAR
