BEGIN:VCALENDAR
VERSION:2.0
PRODID:-//Sabre//Sabre VObject 4.5.8//EN
CALSCALE:GREGORIAN
BEGIN:VEVENT
UID:sabre-vobject-fe149d9b-00bf-4df6-9f37-9933c7168d73
DTSTAMP:20260422T114506Z
SUMMARY:dialektig: Norbert Schneider & Band
DESCRIPTION:https://regioningolstadt.com/dialektig-norbert-schneider-band_i
 d35151
DTSTART;TZID=Europe/Berlin:20241213T200000
DURATION:PT30M
LOCATION:Kulturzentrum neun\, Elisabethstraße 9 a\, 85051 Ingolstadt
END:VEVENT
END:VCALENDAR
