BEGIN:VCALENDAR
VERSION:2.0
PRODID:-//Sabre//Sabre VObject 4.5.8//EN
CALSCALE:GREGORIAN
BEGIN:VEVENT
UID:sabre-vobject-6d646af0-eb7f-421f-92e8-f1291eac06f9
DTSTAMP:20260421T143206Z
SUMMARY:dialektig: Anna Mabo & die Buben
DESCRIPTION:https://regioningolstadt.com/dialektig-anna-mabo-die-buben_id35
 150
DTSTART;TZID=Europe/Berlin:20241211T200000
DURATION:PT30M
LOCATION:Neue Welt\, Griesbadgasse 7\, 85049 Ingolstadt
END:VEVENT
END:VCALENDAR
