BEGIN:VCALENDAR
VERSION:2.0
PRODID:-//Sabre//Sabre VObject 4.5.8//EN
CALSCALE:GREGORIAN
BEGIN:VEVENT
UID:sabre-vobject-c7b6202a-787c-4059-9d63-b20450b3f0c9
DTSTAMP:20260422T221451Z
SUMMARY:Büchereizeit: Henri und Henriette fahren in die Ferien
DESCRIPTION:https://regioningolstadt.com/buechereizeit-henri-und-henriette-
 fahren-in-die-ferien_id35111
DTSTART;TZID=Europe/Berlin:20250327T150000
DURATION:PT30M
LOCATION:Stadtbücherei im Herzogskasten\, Hallstraße 2 - 4\, 85049 Ingols
 tadt
END:VEVENT
END:VCALENDAR
