BEGIN:VCALENDAR
VERSION:2.0
PRODID:-//Sabre//Sabre VObject 4.5.8//EN
CALSCALE:GREGORIAN
BEGIN:VEVENT
UID:sabre-vobject-c9aec2a3-112a-4781-aff8-57caf11ea05b
DTSTAMP:20260422T235428Z
SUMMARY:Büchereizeit: Henri und Henriette fahren in die Ferien
DESCRIPTION:https://regioningolstadt.com/buechereizeit-henri-und-henriette-
 fahren-in-die-ferien_id35110
DTSTART;TZID=Europe/Berlin:20250326T150000
DURATION:PT30M
LOCATION:Stadtteilbücherei Südwest\, Maximilianstraße 25\, 85051 Ingolst
 adt
END:VEVENT
END:VCALENDAR
