BEGIN:VCALENDAR
VERSION:2.0
PRODID:-//Sabre//Sabre VObject 4.5.8//EN
CALSCALE:GREGORIAN
BEGIN:VEVENT
UID:sabre-vobject-0d4a296a-8c62-46d2-a13c-b7a50f7687a8
DTSTAMP:20260421T011354Z
SUMMARY:Büchereizeit: Henri und der geheimnisvolle Büchernager
DESCRIPTION:https://regioningolstadt.com/buechereizeit-henri-und-der-geheim
 nisvolle-buechernager_id35109
DTSTART;TZID=Europe/Berlin:20250320T150000
DURATION:PT30M
LOCATION:Stadtbücherei im Herzogskasten\, Hallstraße 2 - 4\, 85049 Ingols
 tadt
END:VEVENT
END:VCALENDAR
