BEGIN:VCALENDAR
VERSION:2.0
PRODID:-//Sabre//Sabre VObject 4.5.8//EN
CALSCALE:GREGORIAN
BEGIN:VEVENT
UID:sabre-vobject-3956ca67-c70e-4585-a690-6e9d0c9b24b1
DTSTAMP:20260420T000240Z
SUMMARY:Büchereizeit: Der kleine Polarbär - zu Hause in der Arktis
DESCRIPTION:https://regioningolstadt.com/buechereizeit-der-kleine-polarbaer
 -zu-hause-in-der-arktis_id35094
DTSTART;TZID=Europe/Berlin:20250122T150000
DURATION:PT30M
LOCATION:Stadtteilbücherei Südwest\, Maximilianstraße 25\, 85051 Ingolst
 adt
END:VEVENT
END:VCALENDAR
